BEGIN:VCALENDAR
VERSION:2.0
PRODID:-//Le Hangar - ECPv6.15.20//NONSGML v1.0//EN
CALSCALE:GREGORIAN
METHOD:PUBLISH
X-ORIGINAL-URL:https://www.le-hangar.eu
X-WR-CALDESC:Évènements pour Le Hangar
REFRESH-INTERVAL;VALUE=DURATION:PT1H
X-Robots-Tag:noindex
X-PUBLISHED-TTL:PT1H
BEGIN:VTIMEZONE
TZID:Europe/Paris
BEGIN:DAYLIGHT
TZOFFSETFROM:+0100
TZOFFSETTO:+0200
TZNAME:CEST
DTSTART:20250330T010000
END:DAYLIGHT
BEGIN:STANDARD
TZOFFSETFROM:+0200
TZOFFSETTO:+0100
TZNAME:CET
DTSTART:20251026T010000
END:STANDARD
BEGIN:DAYLIGHT
TZOFFSETFROM:+0100
TZOFFSETTO:+0200
TZNAME:CEST
DTSTART:20260329T010000
END:DAYLIGHT
BEGIN:STANDARD
TZOFFSETFROM:+0200
TZOFFSETTO:+0100
TZNAME:CET
DTSTART:20261025T010000
END:STANDARD
BEGIN:DAYLIGHT
TZOFFSETFROM:+0100
TZOFFSETTO:+0200
TZNAME:CEST
DTSTART:20270328T010000
END:DAYLIGHT
BEGIN:STANDARD
TZOFFSETFROM:+0200
TZOFFSETTO:+0100
TZNAME:CET
DTSTART:20271031T010000
END:STANDARD
END:VTIMEZONE
BEGIN:VEVENT
DTSTART;VALUE=DATE:20260621
DTEND;VALUE=DATE:20260628
DTSTAMP:20260421T162610
CREATED:20230530T161950Z
LAST-MODIFIED:20260206T133540Z
UID:1198-1782000000-1782604799@www.le-hangar.eu
SUMMARY:Stage Intensif de Yoga Iyengar avec Thijsje Strypens
DESCRIPTION:[vc_row css_animation= » » row_type= »row » use_row_as_full_screen_section= »no » type= »full_width » angled_section= »no » text_align= »left » background_image_as_pattern= »without_pattern » row_negative_margin= »disable_negative_margin » z_index= » »][vc_column][vc_column_text css= » »][/vc_column_text][vc_empty_space][vc_column_text css= » »] \nSemaine intensive de Yoga Iyengar pour les pratiquants ayant un minimum de 2 ans d’expérience\n[/vc_column_text][vc_column_text css= » »]Séances matinales de méditation\, sessions dynamiques de yoga le matin\, classes de yoga de récupération\, de détente profonde et de pranayama en fin d’après-midi\, promenades\, baignades dans la rivière et/ou dans la piscine\, ou simplement détente dans le jardin les après-midi. \nThijsje Strypens\, professeure certifiée depuis 2008\, nous guidera dans l’étude et l’exploration des asanas et du pranayama. \nSite de Thijsje \nVous serez accueilli(e)s par Anne Henricot et restauré(e)s par Nathalène Chardonnet\, praticienne ayurvédique\, qui nous concoctera des repas végétariens avec des produits locaux. \nJournée type \n\n\n\n\n	7h00Méditation\n\n\n	8h00Thé / café\n\n\n	9h00Séance de yoga\n\n\n	12h30Déjeuner\n\n\n	16h30Séance de yoga de récupération /pranayama/svasayama\n\n\n	19h00Dîner\n\n\n\n\nTarifs  \nChambre double : 830 € \nLe tarif inclut les séances de yoga\, l’hébergement en chambre partagée et la restauration. \nLe transport pour rejoindre St-Julien est à votre charge. \nRéservation \nLes réservations se font via le site de Thijsje ou en remplissant le formulaire ci-dessous.[/vc_column_text][vc_empty_space][vc_row_inner row_type= »row » type= »full_width » text_align= »left » row_negative_margin= »disable_negative_margin » css_animation= » »][vc_column_inner width= »1/2″]\n\n  \n\n\n\n Votre prénom\n \n Votre nom\n \n \n Votre e-mail\n \n \n Votre numéro de téléphone\n \n \n Votre message (facultatif)\n \n \nJ'accepte que mes données soient utilisées dans le cadre du stage.\n \n\n Δ \n\n\n[/vc_column_inner][vc_column_inner width= »1/2″][vc_gallery interval= »3″ images= »853\,836\,1094\,773\,307\,1018\,1171\,1156″ img_size= »full » css= » »][/vc_column_inner][/vc_row_inner][/vc_column][/vc_row]
URL:https://www.le-hangar.eu/atelier/stage-intensif-de-yoga-iyengar-avec-thijsje-strypens/
LOCATION:Le Hangar\, 2877 route de Saint-Julien\, Cénac-et-Saint-Julien\, 24091\, France
CATEGORIES:yoga
ATTACH;FMTTYPE=image/jpeg:https://www.le-hangar.eu/wp-content/uploads/2023/05/Eva-26-15.jpg
END:VEVENT
END:VCALENDAR